BEGIN:VCALENDAR
VERSION:2.0
PRODID:-//Squarespace Inc/Squarespace 6//v6//EN
BEGIN:VEVENT
UID:5947fdd03e00becdc1524b68@squarespace.com
DTSTAMP:20170619T164155Z
DTSTART:20170701T130000Z
DTEND:20170702T000000Z
SUMMARY:Sample Saturday!
END:VEVENT
END:VCALENDAR
