BEGIN:VCALENDAR
VERSION:2.0
PRODID:-//Squarespace Inc/Squarespace 6//v6//EN
BEGIN:VEVENT
UID:593c43c7ff7c50b39bd5a193@squarespace.com
DTSTAMP:20170712T181601Z
DTSTART:20170713T220000Z
DTEND:20170713T230000Z
SUMMARY:Vegetarianism:  A Beginner's Guide
END:VEVENT
END:VCALENDAR
