BEGIN:VCALENDAR
VERSION:2.0
PRODID:-//Squarespace Inc/Squarespace 6//v6//EN
BEGIN:VEVENT
UID:59615becdb29d63c63df33ab@squarespace.com
DTSTAMP:20180731T110723Z
DTSTART:20170722T160000Z
DTEND:20170722T163000Z
SUMMARY:DIY Class:  Summer Outdoor Body Spray
GEO:42.326283;-88.985712
LOCATION:Choices Natural Market\, 6718 Broadcast Parkway\, Loves Park\, IL\
 , 61111\, United States
END:VEVENT
END:VCALENDAR
