BEGIN:VCALENDAR
VERSION:2.0
PRODID:-//Squarespace Inc/Squarespace 6//v6//EN
BEGIN:VEVENT
UID:5961585429687f420d714263@squarespace.com
DTSTAMP:20180731T110756Z
DTSTART:20170722T150000Z
DTEND:20170722T153000Z
SUMMARY:DIY Class:  Summer Outdoor Body Spray 
GEO:42.326283;-88.985712
LOCATION:Choices Natural Market\, 6718 Broadcast Parkway\, Loves Park\, IL\
 , 61111\, United States
END:VEVENT
END:VCALENDAR
