BEGIN:VCALENDAR
VERSION:2.0
PRODID:-//Squarespace Inc/Squarespace 6//v6//EN
BEGIN:VEVENT
UID:596168789de4bb7b8d0aa34c@squarespace.com
DTSTAMP:20180731T110652Z
DTSTART:20170726T220000Z
DTEND:20170726T230000Z
SUMMARY:A Glass of Wine\,  A Summer Salad\, and A Chat with the Owner!
GEO:42.326283;-88.985712
LOCATION:Choices Natural Market\, 6718 Broadcast Parkway\, Loves Park\, IL\
 , 61111\, United States
END:VEVENT
END:VCALENDAR
