BEGIN:VCALENDAR
VERSION:2.0
PRODID:-//Squarespace Inc/Squarespace 6//v6//EN
BEGIN:VEVENT
UID:596678bcd482e94f9c8e80e4@squarespace.com
DTSTAMP:20180731T110622Z
DTSTART:20170727T213000Z
DTEND:20170727T223000Z
SUMMARY:Outdoor Vinyasa Flow Yoga class led by Keri Knutson
GEO:42.326283;-88.985712
LOCATION:Choices Natural Market\, 6718 Broadcast Parkway\, Loves Park\, IL\
 , 61111\, United States
END:VEVENT
END:VCALENDAR
