BEGIN:VCALENDAR
VERSION:2.0
PRODID:-//Squarespace Inc/Squarespace 6//v6//EN
BEGIN:VEVENT
UID:593c4430579fb3fa4a6c80f8@squarespace.com
DTSTAMP:20170810T183523Z
DTSTART:20170819T170000Z
DTEND:20170819T180000Z
SUMMARY:Vegetarianism:  A Beginner's Guide
END:VEVENT
END:VCALENDAR
