BEGIN:VCALENDAR
VERSION:2.0
PRODID:-//Squarespace Inc/Squarespace 6//v6//EN
BEGIN:VEVENT
UID:597c9731a5790a1f469cab23@squarespace.com
DTSTAMP:20180731T110604Z
DTSTART:20170802T180000Z
DTEND:20170802T183000Z
SUMMARY:Joys of Summer--DIY Bubbles!
END:VEVENT
END:VCALENDAR
