BEGIN:VCALENDAR
VERSION:2.0
PRODID:-//Squarespace Inc/Squarespace 6//v6//EN
BEGIN:VEVENT
UID:5961620a579fb302563f0d12@squarespace.com
DTSTAMP:20180731T110551Z
DTSTART:20170802T170000Z
DTEND:20170802T173000Z
SUMMARY:Joys of Summer--DIY Bubbles!
END:VEVENT
END:VCALENDAR
