BEGIN:VCALENDAR
VERSION:2.0
PRODID:-//Squarespace Inc/Squarespace 6//v6//EN
BEGIN:VEVENT
UID:59623a66d2b85754d96042c4@squarespace.com
DTSTAMP:20170709T142629Z
DTSTART:20170805T130000Z
DTEND:20170806T000000Z
SUMMARY:Sample Saturday!
GEO:42.326283;-88.985712
LOCATION:Choices Natural Market\, 6718 Broadcast Parkway\, Loves Park\, IL\
 , 61111\, United States
END:VEVENT
END:VCALENDAR
