BEGIN:VCALENDAR
VERSION:2.0
PRODID:-//Squarespace Inc/Squarespace 6//v6//EN
BEGIN:VEVENT
UID:5981d2683a041103d79d6b15@squarespace.com
DTSTAMP:20180731T105808Z
DTSTART:20170914T220000Z
DTEND:20170914T230000Z
SUMMARY:A Glass of Wine\, A Harvest Salad\, and a Chat with the Owner
GEO:42.326283;-88.985712
LOCATION:Choices Natural Market\, 6718 Broadcast Parkway\, Loves Park\, IL\
 , 61111\, United States
END:VEVENT
END:VCALENDAR
