BEGIN:VCALENDAR
VERSION:2.0
PRODID:-//Squarespace Inc/Squarespace 6//v6//EN
BEGIN:VEVENT
UID:59a7a7b78419c278e3f77c83@squarespace.com
DTSTAMP:20170831T061353Z
DTSTART:20170902T130000Z
DTEND:20170903T000000Z
SUMMARY:September Sample Saturday! 
END:VEVENT
END:VCALENDAR
