BEGIN:VCALENDAR
VERSION:2.0
PRODID:-//Squarespace Inc/Squarespace 6//v6//EN
BEGIN:VEVENT
UID:59af69506f4ca3de31c1d2a5@squarespace.com
DTSTAMP:20170907T011942Z
DTSTART:20170928T220000Z
DTEND:20170929T000000Z
SUMMARY:Dr. Rosemary Schiavi presents:  Fertility-The Shared Journey with M
 ercier Therapy
END:VEVENT
END:VCALENDAR
