BEGIN:VCALENDAR
VERSION:2.0
PRODID:-//Squarespace Inc/Squarespace 6//v6//EN
BEGIN:VEVENT
UID:59cd2bc746c3c43c961ac03e@squarespace.com
DTSTAMP:20180731T105639Z
DTSTART:20171005T173000Z
DTEND:20171005T183000Z
SUMMARY:Tierra Farms Demo:  Try Samples from our Bulk Assortment!
END:VEVENT
END:VCALENDAR
