BEGIN:VCALENDAR
VERSION:2.0
PRODID:-//Squarespace Inc/Squarespace 6//v6//EN
BEGIN:VEVENT
UID:59af51f8c027d8e9bfa59bf7@squarespace.com
DTSTAMP:20180731T105822Z
DTSTART:20170908T160000Z
DTEND:20170908T190000Z
SUMMARY:Garden of Life Demo--Whey Proteins & New Products!
END:VEVENT
END:VCALENDAR
