BEGIN:VCALENDAR
VERSION:2.0
PRODID:-//Squarespace Inc/Squarespace 6//v6//EN
BEGIN:VEVENT
UID:5a4ae49553450a63fe8da528@squarespace.com
DTSTAMP:20180207T150440Z
DTSTART:20180212T230000Z
DTEND:20180213T000000Z
SUMMARY:CW Hemp Oil Informational Presentation
END:VEVENT
END:VCALENDAR
