BEGIN:VCALENDAR
VERSION:2.0
PRODID:-//Squarespace Inc/Squarespace 6//v6//EN
BEGIN:VEVENT
UID:5a452f90c830257df7ef9184@squarespace.com
DTSTAMP:20180731T103829Z
DTSTART:20180118T223000Z
DTEND:20180118T233000Z
SUMMARY:Food is Medicine
GEO:42.326283;-88.985712
LOCATION:Choices Natural Market\, 6718 Broadcast Parkway\, Loves Park\, IL\
 , 61111\, United States
END:VEVENT
END:VCALENDAR
