BEGIN:VCALENDAR
VERSION:2.0
PRODID:-//Squarespace Inc/Squarespace 6//v6//EN
BEGIN:VEVENT
UID:5a679b949140b79bfdf03a03@squarespace.com
DTSTAMP:20180123T205555Z
DTSTART:20180126T170000Z
DTEND:20180126T200000Z
SUMMARY:Garden of Life Demo:  Ketogenic Coffee Sampling
GEO:42.326283;-88.985712
LOCATION:Choices Natural Market\, 6718 Broadcast Parkway\, Loves Park\, IL\
 , 61111\, United States
END:VEVENT
END:VCALENDAR
