BEGIN:VCALENDAR
VERSION:2.0
PRODID:-//Squarespace Inc/Squarespace 6//v6//EN
BEGIN:VEVENT
UID:5a66b5b1419202ba47cffa00@squarespace.com
DTSTAMP:20180731T103616Z
DTSTART:20180127T140000Z
DTEND:20180128T010000Z
SUMMARY:20% Off Sale!  Customer Appreciation and Rockford Real Food Revolut
 ion Sale!
GEO:42.326283;-88.985712
LOCATION:Choices Natural Market\, 6718 Broadcast Parkway\, Loves Park\, IL\
 , 61111\, United States
END:VEVENT
END:VCALENDAR
