BEGIN:VCALENDAR
VERSION:2.0
PRODID:-//Squarespace Inc/Squarespace 6//v6//EN
BEGIN:VEVENT
UID:5a4a74cdc83025f844a31d09@squarespace.com
DTSTAMP:20180731T103952Z
DTSTART:20180103T180000Z
DTEND:20180103T190000Z
SUMMARY:DIY Essential Oil Workshop:  Shower Gel\, Under Eye Serum\, & Scalp 
 Exfoliator
GEO:42.326283;-88.985712
LOCATION:Choices Natural Market\, 6718 Broadcast Parkway\, Loves Park\, IL\
 , 61111\, United States
END:VEVENT
END:VCALENDAR
