BEGIN:VCALENDAR
VERSION:2.0
PRODID:-//Squarespace Inc/Squarespace 6//v6//EN
BEGIN:VEVENT
UID:5a4d456ce4966bb5a23c3c9d@squarespace.com
DTSTAMP:20180103T210835Z
DTSTART:20180106T140000Z
DTEND:20180107T010000Z
SUMMARY:January Sample Saturday!
END:VEVENT
END:VCALENDAR
