BEGIN:VCALENDAR
VERSION:2.0
PRODID:-//Squarespace Inc/Squarespace 6//v6//EN
BEGIN:VEVENT
UID:5bacf9c1104c7b2fd57c52d6@squarespace.com
DTSTAMP:20180927T162303Z
DTSTART:20181014T170000Z
DTEND:20181014T190000Z
SUMMARY:GMO OMG Movie Screening
END:VEVENT
END:VCALENDAR
