BEGIN:VCALENDAR
VERSION:2.0
PRODID:-//Squarespace Inc/Squarespace 6//v6//EN
BEGIN:VEVENT
UID:5bad0142652dea1a20d5d326@squarespace.com
DTSTAMP:20180927T162244Z
DTSTART:20181017T213000Z
DTEND:20181017T233000Z
SUMMARY:GMO OMG Movie Screening
GEO:42.325739;-88.985335
LOCATION:Choices Natural Market\, 6718 Broadcast Parkway\, Loves Park\, IL\
 , 61111\, United States
END:VEVENT
END:VCALENDAR
