BEGIN:VCALENDAR
VERSION:2.0
PRODID:-//Squarespace Inc/Squarespace 6//v6//EN
BEGIN:VEVENT
UID:5bce2aa415fcc09e3e6a4c31@squarespace.com
DTSTAMP:20181022T203102Z
DTSTART:20181104T183000Z
DTEND:20181104T200000Z
SUMMARY:Cooking Demo:  Thanksgiving Side Dishes That Will Make Your Dinner 
 Shine
GEO:42.326283;-88.985712
LOCATION:Choices Natural Market\, 6718 Broadcast Parkway\, Loves Park\, IL\
 , 61111\, United States
END:VEVENT
END:VCALENDAR
