BEGIN:VCALENDAR
VERSION:2.0
PRODID:-//Squarespace Inc/Squarespace 6//v6//EN
BEGIN:VEVENT
UID:5bace95f0852292c401b1e50@squarespace.com
DTSTAMP:20180927T145530Z
DTSTART:20181006T130000Z
DTEND:20181007T000000Z
SUMMARY:October Sample Saturday
GEO:42.326283;-88.985712
LOCATION:Choices Natural Market\, 6718 Broadcast Parkway\, Loves Park\, IL\
 , 61111\, United States
END:VEVENT
END:VCALENDAR
