BEGIN:VCALENDAR
VERSION:2.0
PRODID:-//Squarespace Inc/Squarespace 6//v6//EN
BEGIN:VEVENT
UID:5bacef791905f45899bf2922@squarespace.com
DTSTAMP:20181001T155004Z
DTSTART:20181008T213000Z
DTEND:20181008T223000Z
SUMMARY:Outdoor Yoga with Keri
GEO:42.326283;-88.985712
LOCATION:Choices Natural Market\, 6718 Broadcast Parkway\, Loves Park\, IL  
 61111\, USA
END:VEVENT
END:VCALENDAR
