BEGIN:VCALENDAR
VERSION:2.0
PRODID:-//Squarespace Inc/Squarespace 6//v6//EN
BEGIN:VEVENT
UID:5bd5aa6b8165f5a5e916e68e@squarespace.com
DTSTAMP:20181028T125059Z
DTSTART:20181115T223000Z
DTEND:20181115T233000Z
SUMMARY:Mindful Eating During the Holidays
GEO:42.326283;-88.985712
LOCATION:Choices Natural Market\, 6718 Broadcast Parkway\, Loves Park\, IL\
 , 61111\, United States
END:VEVENT
END:VCALENDAR
