BEGIN:VCALENDAR
VERSION:2.0
PRODID:-//Squarespace Inc/Squarespace 6//v6//EN
BEGIN:VEVENT
UID:5bd5b0c0b208fc08df3b7464@squarespace.com
DTSTAMP:20181028T130439Z
DTSTART:20181122T140000Z
DTEND:20181123T010000Z
SUMMARY:Happy Thanksgiving!  Choices will be Closed.
END:VEVENT
END:VCALENDAR
