BEGIN:VCALENDAR
VERSION:2.0
PRODID:-//Squarespace Inc/Squarespace 6//v6//EN
BEGIN:VEVENT
UID:5bc4e614c83025e41e7c187e@squarespace.com
DTSTAMP:20181015T191318Z
DTSTART:20181103T130000Z
DTEND:20181104T000000Z
SUMMARY:November Sample Saturday!
GEO:42.326283;-88.985712
LOCATION:Choices Natural Market\, 6718 Broadcast Parkway\, Loves Park\, IL\
 , 61111\, United States
END:VEVENT
END:VCALENDAR
