BEGIN:VCALENDAR
VERSION:2.0
PRODID:-//Squarespace Inc/Squarespace 6//v6//EN
BEGIN:VEVENT
UID:5bd5a1bde5e5f0d5016cf7c3@squarespace.com
DTSTAMP:20181028T164036Z
DTSTART:20181106T130000Z
DTEND:20181107T000000Z
SUMMARY:Election Day:  Vote!  
END:VEVENT
END:VCALENDAR
