BEGIN:VCALENDAR
VERSION:2.0
PRODID:-//Squarespace Inc/Squarespace 6//v6//EN
BEGIN:VEVENT
UID:5c00a3dd2b6a2851f3371ea6@squarespace.com
DTSTAMP:20181130T024937Z
DTSTART:20181201T140000Z
DTEND:20181202T010000Z
SUMMARY:December Sample Saturday
GEO:42.326283;-88.985712
LOCATION:Choices Natural Market\, 6718 Broadcast Parkway\, Loves Park\, IL\
 , 61111\, United States
END:VEVENT
END:VCALENDAR
