BEGIN:VCALENDAR
VERSION:2.0
PRODID:-//Squarespace Inc/Squarespace 6//v6//EN
BEGIN:VEVENT
UID:5c00b9a0aa4a99b4c3f74003@squarespace.com
DTSTAMP:20181203T040929Z
DTSTART:20181211T230000Z
DTEND:20181212T000000Z
SUMMARY:How to Create a Natural Medicine Cabinet for Wellness During Cold &
 amp\; Flu Season
GEO:42.325739;-88.985335
LOCATION:Choices Natural Market\, 6718 Broadcast Parkway\, Loves Park\, IL\
 , 61111\, United States
END:VEVENT
END:VCALENDAR
