BEGIN:VCALENDAR
VERSION:2.0
PRODID:-//Squarespace Inc/Squarespace 6//v6//EN
BEGIN:VEVENT
UID:5c02a138aa4a997cdcf1c292@squarespace.com
DTSTAMP:20181201T152302Z
DTSTART:20181212T230000Z
DTEND:20181213T000000Z
SUMMARY:Food 4 Fuel 21 Day Sprint to Confidence Store Tour &amp\; Talk
GEO:42.326283;-88.985712
LOCATION:Choices Natural Market\, 6718 Broadcast Parkway\, Loves Park\, IL\
 , 61111\, United States
END:VEVENT
END:VCALENDAR
