BEGIN:VCALENDAR
VERSION:2.0
PRODID:-//Squarespace Inc/Squarespace 6//v6//EN
BEGIN:VEVENT
UID:5c02a772cd836693d914126e@squarespace.com
DTSTAMP:20181210T040516Z
DTSTART:20181216T183000Z
DTEND:20181216T193000Z
SUMMARY:Healthy Holidays with Herbs\, Essential Oils and More
END:VEVENT
END:VCALENDAR
