BEGIN:VCALENDAR
VERSION:2.0
PRODID:-//Squarespace Inc/Squarespace 6//v6//EN
BEGIN:VEVENT
UID:5c02b29f032be4beba1618ff@squarespace.com
DTSTAMP:20181201T165102Z
DTSTART:20181224T140000Z
DTEND:20181224T190000Z
SUMMARY:Christmas Eve Holiday Hours:  9 AM - 2 PM
END:VEVENT
END:VCALENDAR
