BEGIN:VCALENDAR
VERSION:2.0
PRODID:-//Squarespace Inc/Squarespace 6//v6//EN
BEGIN:VEVENT
UID:5c02bad921c67c7381b6f7b6@squarespace.com
DTSTAMP:20181201T165013Z
DTSTART:20181225T140000Z
DTEND:20181226T020000Z
SUMMARY:Christmas Day:  Choices will be Closed.
GEO:42.325739;-88.985335
LOCATION:Choices Natural Market\, 6718 Broadcast Parkway\, Loves Park\, IL\
 , 61111\, United States
END:VEVENT
END:VCALENDAR
