BEGIN:VCALENDAR
VERSION:2.0
PRODID:-//Squarespace Inc/Squarespace 6//v6//EN
BEGIN:VEVENT
UID:5c00a5d1575d1fad399e02ff@squarespace.com
DTSTAMP:20181203T040835Z
DTSTART:20181204T223000Z
DTEND:20181204T233000Z
SUMMARY:Jarrow Formulas Presentation on Bone Broth &amp\; Immune System Sup
 port  
GEO:42.325739;-88.985335
LOCATION:Choices Natural Market\, 6718 Broadcast Parkway\, Loves Park\, IL\
 , 61111\, United States
END:VEVENT
END:VCALENDAR
