BEGIN:VCALENDAR
VERSION:2.0
PRODID:-//Squarespace Inc/Squarespace 6//v6//EN
BEGIN:VEVENT
UID:5c00a893c2241b16354a5cba@squarespace.com
DTSTAMP:20181130T041333Z
DTSTART:20181209T170000Z
DTEND:20181209T230000Z
SUMMARY:Choices Hours:  Noon - 6 PM
END:VEVENT
END:VCALENDAR
