BEGIN:VCALENDAR
VERSION:2.0
PRODID:-//Squarespace Inc/Squarespace 6//v6//EN
BEGIN:VEVENT
UID:5c02e54d6d2a738dea6612f5@squarespace.com
DTSTAMP:20181201T195929Z
DTSTART:20181209T180000Z
DTEND:20181209T193000Z
SUMMARY:Wine &amp\; Cheese Tasting Event
GEO:42.326283;-88.985712
LOCATION:Choices Natural Market\, 6718 Broadcast Parkway\, Loves Park\, IL\
 , 61111\, United States
END:VEVENT
END:VCALENDAR
