BEGIN:VCALENDAR
VERSION:2.0
PRODID:-//Squarespace Inc/Squarespace 6//v6//EN
BEGIN:VEVENT
UID:5a5ceaf9652dea17cc4ff749@squarespace.com
DTSTAMP:20180731T103542Z
DTSTART:20180201T223000Z
DTEND:20180201T233000Z
SUMMARY:Food is Medicine
GEO:42.326283;-88.985712
LOCATION:Choices Natural Market\, 6718 Broadcast Parkway\, Loves Park\, IL\
 , 61111\, United States
END:VEVENT
END:VCALENDAR
