BEGIN:VCALENDAR
VERSION:2.0
PRODID:-//Squarespace Inc/Squarespace 6//v6//EN
BEGIN:VEVENT
UID:5a6f64d9f9619afce44dae05@squarespace.com
DTSTAMP:20190129T223252Z
DTSTART:20180217T180000Z
DTEND:20180217T200000Z
SUMMARY:Free Film Screening:  Forks Over Knives
GEO:42.326283;-88.985712
LOCATION:Choices Natural Market\, 6718 Broadcast Parkway\, Loves Park\, IL\
 , 61111\, United States
END:VEVENT
END:VCALENDAR
