BEGIN:VCALENDAR
VERSION:2.0
PRODID:-//Squarespace Inc/Squarespace 6//v6//EN
BEGIN:VEVENT
UID:5a6f496641920293752fc5e0@squarespace.com
DTSTAMP:20180731T103427Z
DTSTART:20180203T160000Z
DTEND:20180203T180000Z
SUMMARY:Dr. Shanti Hulsebus\, Doctor of Chiropractic Medicine
GEO:42.326283;-88.985712
LOCATION:Choices Natural Market\, 6718 Broadcast Parkway\, Loves Park\, IL\
 , 61111\, United States
END:VEVENT
END:VCALENDAR
