BEGIN:VCALENDAR
VERSION:2.0
PRODID:-//Squarespace Inc/Squarespace 6//v6//EN
BEGIN:VEVENT
UID:5a737b5df9619a1de7d698c0@squarespace.com
DTSTAMP:20180201T204604Z
DTSTART:20180203T140000Z
DTEND:20180204T010000Z
SUMMARY:February Sample Saturday!
END:VEVENT
END:VCALENDAR
