BEGIN:VCALENDAR
VERSION:2.0
PRODID:-//Squarespace Inc/Squarespace 6//v6//EN
BEGIN:VEVENT
UID:5a67a7c708522959dc0afae7@squarespace.com
DTSTAMP:20180731T103318Z
DTSTART:20180207T230000Z
DTEND:20180208T000000Z
SUMMARY:Herbal Immunity Class
GEO:42.326283;-88.985712
LOCATION:Choices Natural Market\, 6718 Broadcast Parkway\, Loves Park\, IL\
 , 61111\, United States
END:VEVENT
END:VCALENDAR
