BEGIN:VCALENDAR
VERSION:2.0
PRODID:-//Squarespace Inc/Squarespace 6//v6//EN
BEGIN:VEVENT
UID:5a6f585c9140b7595b501e7e@squarespace.com
DTSTAMP:20180731T103238Z
DTSTART:20180208T160000Z
DTEND:20180208T200000Z
SUMMARY:Heart Health Check
END:VEVENT
END:VCALENDAR
