BEGIN:VCALENDAR
VERSION:2.0
PRODID:-//Squarespace Inc/Squarespace 6//v6//EN
BEGIN:VEVENT
UID:5a8b9a7a24a694d707398e08@squarespace.com
DTSTAMP:20180731T102718Z
DTSTART:20180320T220000Z
DTEND:20180320T230000Z
SUMMARY:Polarity Balancing Tea Workshop
GEO:42.326283;-88.985712
LOCATION:Choices Natural Market\, 6718 Broadcast Parkway\, Loves Park\, IL\
 , 61111\, United States
END:VEVENT
END:VCALENDAR
