BEGIN:VCALENDAR
VERSION:2.0
PRODID:-//Squarespace Inc/Squarespace 6//v6//EN
BEGIN:VEVENT
UID:5abc1649562fa7acbf1bf76c@squarespace.com
DTSTAMP:20180328T223942Z
DTSTART:20180423T220000Z
DTEND:20180423T230000Z
SUMMARY:CW Hemp Oil Information Presentation
GEO:42.325739;-88.985335
LOCATION:Choices Natural Market\, 6718 Broadcast Parkway\, Loves Park\, IL\
 , 61111\, United States
END:VEVENT
END:VCALENDAR
