BEGIN:VCALENDAR
VERSION:2.0
PRODID:-//Squarespace Inc/Squarespace 6//v6//EN
BEGIN:VEVENT
UID:5a96bac653450a754a6d7dfd@squarespace.com
DTSTAMP:20180228T143706Z
DTSTART:20180303T160000Z
DTEND:20180303T190000Z
SUMMARY:Ketogenic Coffee Demo featuring Garden of Life MCT Oil
GEO:42.326283;-88.985712
LOCATION:Choices Natural Market\, 6718 Broadcast Parkway\, Loves Park\, IL\
 , 61111\, United States
END:VEVENT
END:VCALENDAR
