BEGIN:VCALENDAR
VERSION:2.0
PRODID:-//Squarespace Inc/Squarespace 6//v6//EN
BEGIN:VEVENT
UID:5a8b9451652deaeaab490fbe@squarespace.com
DTSTAMP:20180220T032528Z
DTSTART:20180303T140000Z
DTEND:20180304T010000Z
SUMMARY:March Sample Saturday!
GEO:42.326283;-88.985712
LOCATION:Choices Natural Market\, 6718 Broadcast Parkway\, Loves Park\, IL\
 , 61111\, United States
END:VEVENT
END:VCALENDAR
