BEGIN:VCALENDAR
VERSION:2.0
PRODID:-//Squarespace Inc/Squarespace 6//v6//EN
BEGIN:VEVENT
UID:5a8babfec83025f59a0331c0@squarespace.com
DTSTAMP:20180329T141701Z
DTSTART:20180331T140000Z
DTEND:20180331T153000Z
SUMMARY:Benefits of Honey presented by Phillip Raines\, our local honey sup
 plier
GEO:42.326283;-88.985712
LOCATION:Choices Natural Market\, 6718 Broadcast Parkway\, Loves Park\, IL\
 , 61111\, United States
END:VEVENT
END:VCALENDAR
